BEGIN:VCALENDAR
VERSION:2.0
PRODID:Centre de Recursos per a l'Aprenentatge i la Investigació (CRAI) | 
 Universitat Rovira i Virgili
BEGIN:VEVENT
UID:69e8a769536a2
DTSTART:20260422T060000Z
SEQUENCE:0
TRANSP:OPAQUE
DTEND:20260429T220000Z
URL:https://www.crai.urv.cat/ca/agenda/12130/sant-jordi-al-crai-2026
LOCATION:CRAI de campus i virtual
SUMMARY:Sant Jordi al CRAI 2026
CLASS:PUBLIC
DESCRIPTION:Com cada any\, al CRAI hem preparat tot un seguit d&#39\;activi
 tats presencials i virtuals per celebrar el dia de Sant Jordi.\n\nTot segu
 it us les detallem per CRAI de campus:\n\n\nCRAI campus Bellissens\n\n\nCe
 ntre d&#39\;interès (del 22&nbsp\;al 30 d&#39\;abril).\nVenda de llibres 
 solidaris (23 i 24&nbsp\;d&#39\;abril).\nRegal d&#39\;un punt de llibre de
  Sant Jordi.\nAutotaller &ldquo\;Sant Jordi origàmic&rdquo\; (22 al 30 d&
 rsquo\;abril).\n\n\nCRAI campus Catalunya\n\nCentre d&#39\;interès (del 2
 2&nbsp\;al 30 d&#39\;abril).\nVenda de llibres solidaris (22 al 24&nbsp\;d
 &#39\;abril).\nFactoria: Pintem un drac (22 d&rsquo\;abril).\nFactoria: Ta
 ller Fancine (22 d&rsquo\;abril).\n\n\nCRAI campus Sescelades\n\nCentre d&
 #39\;interès (del 22 al 30 d&#39\;abril).\nVenda de llibres solidaris (23
 &nbsp\;d&#39\;abril).\nRegal d&#39\;un punt de llibre de Sant Jordi.\nAuto
 taller &quot\;Sant Jordi origàmic&rdquo\; (22 al 30 d&#39\;abril).\nExpos
 ició Llibres d&rsquo\;Art (22 al 30 d&rsquo\;abril).\n\n\nCRAI campus Ter
 res de l&#39\;Ebre\n\nCentre d&#39\;interès (del 22&nbsp\;al 30 d&#39\;ab
 ril).\nVenda de llibres solidaris (22 al&nbsp\;30 d&#39\;abril).\nRegal d&
 #39\;un punt de llibre de Sant Jordi.\nAutotaller &quot\;Sant Jordi origà
 mic&rdquo\; (22 al 30 d&#39\;abril).\n\n\nCRAI campus Vila-seca\n\nCentre 
 d&#39\;interès (del 22&nbsp\;al 30 d&#39\;abril).\nVenda de llibres solid
 aris (22 al 24&nbsp\;d&#39\;abril).\nAutotaller &quot\;Sant Jordi origàmi
 c (22 al 30 d&#39\;abril).\n\n\nCRAI Medicina i Ciències de la Salut\n\nC
 entre d&#39\;interès (del 22&nbsp\;al 30 d&#39\;abril).\nConcurs de micro
 relats (del 7 al 19 d&#39\;abril). Veure&#39\;n les bases.\nAutotaller &qu
 ot\;Sant Jordi origàmic (22 al 30 d&#39\;abril).\n\n\nCRAI seu Baix Pened
 ès\n\nCentre d&#39\;interès (del 22&nbsp\;al 30 d&#39\;abril).\nAutotall
 er &quot\;Sant Jordi origàmic (22 al 30 d&#39\;abril).\n\n\nCRAI seu Vila
 franca del Penedès\n\nCentre d&#39\;interès (del 22&nbsp\;al 30 d&#39\;a
 bril).\nAutotaller &quot\;Sant Jordi origàmic (22 al 30 d&#39\;abril).\n\
 n\n\n\nA més a més\, us invitem a navegar per la guia virtual de Sant Jo
 rdi on trobareu totes les activitats del CRAI per Sant Jordi i els punts d
 e llibre tematitzats per descarregar. A més a més\, la guia consta de l&
 #39\;apartat &quot\;Sant Jordi alternatiu&quot\;\, amb recomanacions de ll
 ibres que donen una visió alternativa de la llegenda de Sant Jordi\, i l&
 #39\;apartat &quot\;Sant Jordi creatiu&quot\;\, que inclou vídeo tutorial
 s per crear manualitats de Sant Jordi molt enginyoses\, proposades pel per
 sonal del CRAI. I enguany com a novetat inclou un nou apartat &ldquo\;Sant
  Jordi Internacional&rdquo\; on per exemple podeu consultar activitats que
  s&rsquo\;organitzen arreu del món en aquest dia tan especial.\n\n\nActua
 lització: les paradetes de llibres solidaris han recaptat un total de (pr
 operament)&nbsp\;euros:\n\n\nCRAI campus Bellisens &nbsp\;&euro\;\nCRAI ca
 mpus Terres de l&#39\;Ebre &nbsp\;&euro\;\nCRAI campus Sescelades &nbsp\;&
 euro\;\nCRAI campus Catalunya &nbsp\;&euro\;\nCRAI campus Vila-seca &euro\
 ;\n
DTSTAMP:20260422T104809Z
END:VEVENT
END:VCALENDAR