BEGIN:VCALENDAR
VERSION:2.0
PRODID:Learning and Research Resource Centre (CRAI) | Universitat Rovira i 
 Virgili
BEGIN:VEVENT
UID:69e8bcf6e19b9
DTSTART:20260422T060000Z
SEQUENCE:0
TRANSP:OPAQUE
DTEND:20260429T220000Z
URL:https://www.crai.urv.cat/en/diary/12130/sant-jordi-al-crai-2026
LOCATION:CRAI de campus i virtual
SUMMARY:Activities to celebrate Sant Jordi's Day at CRAI
CLASS:PUBLIC
DESCRIPTION:As every year\, the CRAI has prepared a wide range of on-site a
 nd virtual activities to celebrate Sant Jordi&#39\;s Day.\n\nBelow\, we de
 tail them by campus CRAI:\n\nCRAI campus Bellissens\nThematic corner (from
  April 22 to 30).\nCharity book sale (April 23 and 24).\nGift of a Sant Jo
 rdi bookmark.\nSelf-workshop &quot\;Origami Sant Jordi&quot\; (from April 
 22 to 30).\n\nCRAI campus Catalunya&nbsp\;\nCharity book sale (from April 
 22 to 24).&nbsp\; &nbsp\; &nbsp\; &nbsp\; &nbsp\; &nbsp\; &nbsp\; &nbsp\; 
 &nbsp\; &nbsp\; &nbsp\; &nbsp\; &nbsp\; &nbsp\; &nbsp\; &nbsp\; &nbsp\; &n
 bsp\; &nbsp\; &nbsp\; &nbsp\; &nbsp\; &nbsp\; &nbsp\; &nbsp\; &nbsp\; &nbs
 p\; &nbsp\; &nbsp\; &nbsp\; &nbsp\; &nbsp\; &nbsp\; &nbsp\; &nbsp\; &nbsp\
 ; &nbsp\; &nbsp\; &nbsp\; &nbsp\; &nbsp\; &nbsp\; &nbsp\; &nbsp\; &nbsp\; 
 &nbsp\; &nbsp\; &nbsp\; &nbsp\; &nbsp\; &nbsp\; &nbsp\; &nbsp\; &nbsp\; &n
 bsp\; &nbsp\; &nbsp\; &nbsp\; &nbsp\; &nbsp\; &nbsp\; &nbsp\; &nbsp\; &nbs
 p\; &nbsp\; &nbsp\; &nbsp\; &nbsp\; &nbsp\; &nbsp\; &nbsp\; &nbsp\; &nbsp\
 ; &nbsp\; &nbsp\; &nbsp\; &nbsp\; &nbsp\; &nbsp\; &nbsp\; &nbsp\; &nbsp\; 
 &nbsp\; Gift of a Sant Jordi bookmark.\nFactory: Let&#39\;s paint a dragon
  (April 22).\nFactory: Fancine Workshop (April 22).\n\nCRAI campus Sescela
 des&nbsp\;&nbsp\; &nbsp\; &nbsp\; &nbsp\; &nbsp\; &nbsp\; &nbsp\; &nbsp\; 
 &nbsp\; &nbsp\; &nbsp\; &nbsp\; &nbsp\; &nbsp\; &nbsp\; &nbsp\; &nbsp\; &n
 bsp\; &nbsp\; &nbsp\; &nbsp\; &nbsp\; &nbsp\; &nbsp\; &nbsp\; &nbsp\; &nbs
 p\; &nbsp\; &nbsp\; &nbsp\; &nbsp\; &nbsp\; &nbsp\; &nbsp\; &nbsp\; &nbsp\
 ; &nbsp\; &nbsp\; &nbsp\; &nbsp\; &nbsp\; &nbsp\; &nbsp\; &nbsp\; &nbsp\; 
 &nbsp\; &nbsp\; &nbsp\; &nbsp\; &nbsp\; &nbsp\; &nbsp\; &nbsp\; &nbsp\; &n
 bsp\; &nbsp\; &nbsp\; &nbsp\; &nbsp\; &nbsp\; &nbsp\; &nbsp\; &nbsp\; &nbs
 p\; &nbsp\; &nbsp\; &nbsp\; &nbsp\; &nbsp\; &nbsp\; &nbsp\; &nbsp\; &nbsp\
 ; &nbsp\; &nbsp\; &nbsp\; &nbsp\; &nbsp\; &nbsp\; &nbsp\; &nbsp\; &nbsp\; 
 &nbsp\; &nbsp\; &nbsp\; &nbsp\; &nbsp\; &nbsp\; Thematic corner (from Apri
 l 22 to 30).\nCharity book sale (April 23).\nGift of a Sant Jordi bookmark
 .\nSelf-workshop &quot\;Origami Sant Jordi&quot\; (from April 22 to 30).&n
 bsp\; &nbsp\; &nbsp\; &nbsp\; &nbsp\; &nbsp\; &nbsp\; &nbsp\; &nbsp\; &nbs
 p\; &nbsp\; &nbsp\; &nbsp\; &nbsp\; &nbsp\; &nbsp\; &nbsp\; &nbsp\; &nbsp\
 ; &nbsp\; &nbsp\; &nbsp\; &nbsp\; &nbsp\; &nbsp\; &nbsp\; &nbsp\; &nbsp\; 
 &nbsp\; &nbsp\; &nbsp\; &nbsp\; &nbsp\; &nbsp\; &nbsp\; &nbsp\; &nbsp\; &n
 bsp\; &nbsp\; &nbsp\; &nbsp\; &nbsp\; &nbsp\; &nbsp\; &nbsp\; &nbsp\; &nbs
 p\; &nbsp\; &nbsp\; &nbsp\; &nbsp\; &nbsp\; &nbsp\; &nbsp\; &nbsp\; &nbsp\
 ; &nbsp\; &nbsp\; &nbsp\; &nbsp\; &nbsp\; &nbsp\; &nbsp\; &nbsp\; &nbsp\; 
 &nbsp\; &nbsp\; &nbsp\; &nbsp\; &nbsp\; &nbsp\; Exhibition &ldquo\;Llibres
  d&rsquo\;Art&rdquo\;&nbsp\;(fom April 22 to 30).\n\nCRAI campus Terres de
  l&#39\;Ebre\nThematic corner (from April 22 to 30).\nCharity book sale (f
 rom April 22 to 30).\nGift of a Sant Jordi bookmark.\nSelf-workshop &quot\
 ;Origami Sant Jordi&quot\; (from April 22 to 30).\n\nCRAI campus Vila-seca
 &nbsp\;\nThematic corner (from April 22 to 30).\nCharity book sale (from A
 pril 22 to 24).\nSelf-workshop &quot\;Origami Sant Jordi&quot\; (from Apri
 l 22 to 30).\n\nCRAI Medicine and Health Sciences\nThematic corner (from A
 pril 22 to 30).\nMicro-story contest (from April 7 to 19). See the rules.\
 nSelf-workshop &quot\;Origami Sant Jordi&quot\; (from April 22 to 30).\n\n
 CRAI seu&nbsp\;Baix Penedès&nbsp\;\nThematic corner (from April 22 to 30)
 .\nSelf-workshop &quot\;Origami Sant Jordi&quot\; (from April 22 to 30).\n
 \nCRAI seu Vilafranca del Penedès&nbsp\;\nThematic corner (from April 22 
 to 30).\nSelf-workshop &quot\;Origami Sant Jordi&quot\; (from April 22 to 
 30).\n\nIn addition\, we invite you to browse the Sant Jordi virtual guide
 \, where you will find all the CRAI activities for Sant Jordi and themed b
 ookmarks available for download. The guide also includes the section &quot
 \;Alternative Sant Jordi&quot\;\, with book recommendations that offer an 
 alternative view of the Sant Jordi legend\, and the section &quot\;Creativ
 e Sant Jordi&quot\;\, which features video tutorials to create very clever
  Sant Jordi crafts\, proposed by CRAI staff. This year\, as a novelty\, it
  also includes the&nbsp\;section called &quot\;International Sant Jordi&qu
 ot\;\, where you can\, for example\, consult activities organized around t
 he world on this special day.\n\nUpdate: the charity book stalls have rais
 ed a total of (coming soon) euros:\nCRAI Bellissens Campus &euro\;\nCRAI T
 erres de l&#39\;Ebre Campus &euro\;\nCRAI Sescelades Campus &euro\;\nCRAI 
 Catalunya Campus &euro\;\nCRAI Vila-seca Campus &euro\;
DTSTAMP:20260422T122006Z
END:VEVENT
END:VCALENDAR