BEGIN:VCALENDAR
VERSION:2.0
PRODID:Centro de Recursos para el Aprendizaje y la Investigación (CRAI) | 
 Universitat Rovira i Virgili
BEGIN:VEVENT
UID:69e7e3af27cac
DTSTART:20251215T070000Z
SEQUENCE:0
TRANSP:OPAQUE
DTEND:20260110T230000Z
URL:https://www.crai.urv.cat/es/agenda/11706/exposicio-acces-obert-i-public
 acions-llibres-revistes-i-fons-digitalitzats-de-la-urv-al-crai-medicina-i-
 ciencies-de-la-salut
LOCATION:CRAI Medicina i Ciències de la Salut
SUMMARY:Exposición \"Acceso abierto y publicaciones. Libros\, revistas y f
 ondos digitalizados de la URV\" en el CRAI Medicina y Ciencias de la Salud
CLASS:PUBLIC
DESCRIPTION:La Universidad Rovira i Virgili (URV) presenta la exposición A
 cceso abierto y publicaciones. Libros\, revistas y fondos digitalizados de
  la URV\, que pone en valor el compromiso de la URV con la difusión del c
 onocimiento\, la memoria histórica y el acceso abierto..\n\nLa exposició
 n presenta más de 500 monografías y diversas revistas académicas dispon
 ibles en acceso abierto a través de portales llibres.urv.cat y revistas.u
 rv.cat. Se destacan tres obras: &quot\;Los últimos días de la Cataluña 
 republicana&quot\; de Antoni Rovira i Virgili\, &quot\;Una historia de muj
 eres en lucha&quot\; de Ángeles de la Fuente\, y &quot\;Sobrevivir a las 
 prisiones de Franco&quot\; de Rosa Vilaró.\n\n\nTambién se muestran vari
 os fondos documentales digitalizados\, como el Fondo Antoni Rovira i Virgi
 li\, con textos históricos\, políticos y literarios publicados entre 190
 5 y 1939\; el Fondo Llibrets Operístics\, con 219 libretos de óperas rep
 resentadas en Barcelona entre 1820 y 1900\; el Fondo Daniel Vilaró\, con 
 cerca de 300 cartas escritas desde prisiones franquistas entre 1939 y 1943
 \; y el Fondo Valmeline\, que documenta la lucha obrera femenina entre 196
 1 y 1980.\n\nLos contenidos también están disponibles en el repositorio 
 institucional repositori.urv.cat y en plataformas como DOAB\, Europeana e 
 Internet Archive. La exposición celebra el 30/20 aniversario del Servicio
  Lingüístico y de Publicaciones y muestra los procesos que posibilitan e
 l acceso abierto: digitalización\, catalogación\, preservación y difusi
 ón. La URV reafirma así su compromiso con una ciencia abierta\, inclusiv
 a y accesible. Tal y como decía Rovira i Virgili\, la cultura es &quot\;l
 a libertad hecha costumbre&quot\;\, y esta exposición es una prueba viva.
 \n\nLa muestra\, que se puede visitar del 15 de diciembre al 11 de enero d
 e 2026 en el CRAI Medicina y Ciencias de la Salud\, será itinerante y se 
 exhibirá en las diferentes sedes del CRAI de la URV.
DTSTAMP:20260421T205303Z
END:VEVENT
END:VCALENDAR