BEGIN:VCALENDAR
VERSION:2.0
PRODID:Centro de Recursos para el Aprendizaje y la Investigación (CRAI) | 
 Universitat Rovira i Virgili
BEGIN:VEVENT
UID:69e5ef1313959
DTSTART:20260302T070000Z
SEQUENCE:0
TRANSP:OPAQUE
DTEND:20260312T230000Z
URL:https://www.crai.urv.cat/es/agenda/11944/feminisme-academic-i-la-col-le
 ccio-atenea
LOCATION:CRAI campus Catalunya (Av. Catalunya\, 35\, Tarragona)
SUMMARY:Exposición \"Feminismo académico y la colección Atenea\" en el 
 CRAI campus Catalunya
CLASS:PUBLIC
DESCRIPTION:Publicaciones URV\, el Centro de Recursos para el Aprendizaje y
  la Investigación y el Grupo de Investigación ISOCAC de la Universidad R
 ovira i Virgili presentan la exposición &quot\;Feminismo académico y la 
 colección Atenea&quot\;&nbsp\;y que se puede visitar en el vestíbulo del
  CRAI campus Catalunya hasta el 13&nbsp\;de marzo.\n\nLa colección Atenea
  está especializada en estudios de mujeres\, género y feminismos y tiene
  una clara voluntad interdisciplinar. Está dirigida por Montserrat Duch\,
  profesora de la Universdad Rovira y Virgili y quiere profundizar en la me
 moria colectiva\, cultivar la perspectiva crítica de la realidad\, avanza
 r en el reconocimiento de las diferencias y apostar por la igualdad entre 
 las personas. Coeditada con Arola Editors\, la colección está incluida e
 n Directory of Open Access Books.\n\nLa inauguración oficial&nbsp\;será 
 el 9 de marzo a las 11:30 horas en el mismo CRAI campus Catalunya e irá a
  cargo de Montserrat Duch (directora de la colección Atenea)\, Jaume Llam
 brich (Publicaciones URV) y Júlia Cuadrat (comisaria).\n\nEl acto se insc
 ribe en la celebración de los 20 años de la colección Atenea\, que reci
 bió la distinción Maria Antònia Ferrer 2022.\n\nOrganiza: Facultad de L
 etras. Colabora: Servicio de Publicaciones de la URV.
DTSTAMP:20260420T091707Z
END:VEVENT
END:VCALENDAR