BEGIN:VCALENDAR
VERSION:2.0
PRODID:Centro de Recursos para el Aprendizaje y la Investigación (CRAI) | 
 Universitat Rovira i Virgili
BEGIN:VEVENT
UID:69e8bcf6248e1
DTSTART:20260422T060000Z
SEQUENCE:0
TRANSP:OPAQUE
DTEND:20260429T220000Z
URL:https://www.crai.urv.cat/es/agenda/12130/sant-jordi-al-crai-2026
LOCATION:CRAI de campus i virtual
SUMMARY:Sant Jordi en el CRAI 2026
CLASS:PUBLIC
DESCRIPTION:Como cada año\, en el CRAI hemos preparado toda una serie de a
 ctividades presenciales y virtuales para celebrar el día de Sant Jordi.\n
 \nA continuación os las detallamos por CRAI de campus:\n\nCRAI campus Bel
 lissens\nCentro de interés (del 22 al 30 de abril).\nVenta de libros soli
 darios (23 y 24 de abril).\nRegalo de un marcapáginas de Sant Jordi.\nAut
 otaller &quot\;Sant Jordi origámico&quot\; (del 22 al 30 de abril).\n\nCR
 AI campus Catalunya\nVenta de libros solidarios (del 22 al 24 de abril).&n
 bsp\; &nbsp\; &nbsp\; &nbsp\; &nbsp\; &nbsp\; &nbsp\; &nbsp\; &nbsp\; &nbs
 p\; &nbsp\; &nbsp\; &nbsp\; &nbsp\; &nbsp\; &nbsp\; &nbsp\; &nbsp\; &nbsp\
 ; &nbsp\; &nbsp\; &nbsp\; &nbsp\; &nbsp\; &nbsp\; &nbsp\; &nbsp\; &nbsp\; 
 &nbsp\; &nbsp\; &nbsp\; &nbsp\; &nbsp\; &nbsp\; &nbsp\; &nbsp\; &nbsp\; &n
 bsp\; &nbsp\; &nbsp\; &nbsp\; &nbsp\; &nbsp\; &nbsp\; &nbsp\; &nbsp\; &nbs
 p\; &nbsp\; &nbsp\; &nbsp\; &nbsp\; &nbsp\; &nbsp\; &nbsp\; &nbsp\; &nbsp\
 ; &nbsp\; &nbsp\; &nbsp\; &nbsp\; &nbsp\; &nbsp\; &nbsp\; &nbsp\; &nbsp\; 
 &nbsp\; &nbsp\; &nbsp\; &nbsp\; &nbsp\; &nbsp\; &nbsp\; &nbsp\; &nbsp\; &n
 bsp\; &nbsp\; &nbsp\; &nbsp\; Regalo de un punto de un marcapáginas de Sa
 nt Jordi.\nFactoría: Pintamos un dragón (22 de abril).\nFactoría: Talle
 r Fancine (22 de abril).\n\nCRAI campus Sescelades\nCentro de interés (de
 l 22 al 30 de abril).\nVenta de libros solidarios (23 de abril).\nRegalo d
 e un marcapáginas de Sant Jordi.\nAutotaller &quot\;Sant Jordi origámico
 &quot\; (del 22 al 30 de abril).&nbsp\; &nbsp\; &nbsp\; &nbsp\; &nbsp\; &n
 bsp\; &nbsp\; &nbsp\; &nbsp\; &nbsp\; &nbsp\; &nbsp\; &nbsp\; &nbsp\; &nbs
 p\; &nbsp\; &nbsp\; &nbsp\; &nbsp\; &nbsp\; &nbsp\; &nbsp\; &nbsp\; &nbsp\
 ; &nbsp\; &nbsp\; &nbsp\; &nbsp\; &nbsp\; &nbsp\; &nbsp\; &nbsp\; &nbsp\; 
 &nbsp\; &nbsp\; &nbsp\; &nbsp\; &nbsp\; &nbsp\; &nbsp\; &nbsp\; &nbsp\; &n
 bsp\; &nbsp\; &nbsp\; &nbsp\; &nbsp\; &nbsp\; &nbsp\; &nbsp\; &nbsp\; &nbs
 p\; &nbsp\; &nbsp\; &nbsp\; &nbsp\; &nbsp\; &nbsp\; &nbsp\; &nbsp\; &nbsp\
 ; &nbsp\; &nbsp\; &nbsp\; &nbsp\; Exposición Llibres d&rsquo\;Art (del 22
  al 30 de abril).\n\nCRAI campus Terres de l&#39\;Ebre\nCentro de interés
  (del 22 al 30 de abril).\nVenta de libros solidarios (del 22 al 30 de abr
 il).\nRegalo de un marcapáginas de Sant Jordi.\nAutotaller &quot\;Sant Jo
 rdi origámico&quot\; (del 22 al 30 de abril).\n\nCRAI campus Vila-seca\nC
 entro de interés (del 22 al 30 de abril).\nVenta de libros solidarios (de
 l 22 al 24 de abril).\nAutotaller &quot\;Sant Jordi origámico&quot\; (del
  22 al 30 de abril).\n\nCRAI Medicina y Ciencias de la Salud\nCentro de in
 terés (del 22 al 30 de abril).\nConcurso de microrrelatos (del 7 al 19 de
  abril). Ver las bases.\nAutotaller &quot\;Sant Jordi origámico&quot\; (d
 el 22 al 30 de abril).\n\nCRAI sede Baix Penedès\nCentro de interés (del
  22 al 30 de abril).\nAutotaller &quot\;Sant Jordi origámico&quot\; (del 
 22 al 30 de abril).\n\nCRAI sede Vilafranca del Penedès\nCentro de inter
 és (del 22 al 30 de abril).\nAutotaller &quot\;Sant Jordi origámico&quot
 \; (del 22 al 30 de abril).\n\nAdemás\, os invitamos a navegar por la gu
 ía virtual de Sant Jordi donde encontraréis todas las actividades del CR
 AI por Sant Jordi y los marcapáginas tematizados para descargar. Asimismo
 \, la guía consta del apartado &quot\;Sant Jordi alternativo&quot\;\, con
  recomendaciones de libros que ofrecen una visión alternativa de la leyen
 da de Sant Jordi\, y del apartado &quot\;Sant Jordi creativo&quot\;\, que 
 incluye videotutoriales para crear manualidades de Sant Jordi muy ingenios
 as\, propuestas por el personal del CRAI. Y este año\, como novedad\, tam
 bién incluye el&nbsp\;apartado &quot\;Sant Jordi Internacional&quot\;\, d
 onde\, por ejemplo\, podéis consultar actividades que se organizan en tod
 o el mundo en este día tan especial.\n\nActualización: las paradas de li
 bros solidarios han recaudado un total de (próximamente) euros:\nCRAI cam
 pus Bellissens &euro\;\nCRAI campus Terres de l&#39\;Ebre &euro\;\nCRAI ca
 mpus Sescelades &euro\;\nCRAI campus Catalunya &euro\;\nCRAI campus Vila-s
 eca &euro\;
DTSTAMP:20260422T122006Z
END:VEVENT
END:VCALENDAR